BEGIN:VCALENDAR
VERSION:2.0
CALSCALE:GREGORIAN
PRODID:-//Diputació de Barcelona//DibaCMS//EN
BEGIN:VEVENT
UID:5691
DTSTAMP:20260420T101905
DTSTART:20230812T000000
DTEND:20230812T040000
SUMMARY:La prèvia Jove.
LOCATION:Pati de les Moreres 
METHOD:PUBLISH
X-WR-CALNAME:ullastrell@ullastrell.cat
X-WR-TIMEZONE:Europe/Madrid
DESCRIPTION:Organitza — Oju Malparlats

URI:https://www.ullastrell.cat/actualitat/agenda/la-previa-jove.html
CLASS:PUBLIC
END:VEVENT
END:VCALENDAR
