BEGIN:VCALENDAR
VERSION:2.0
CALSCALE:GREGORIAN
PRODID:-//Diputació de Barcelona//DibaCMS//EN
BEGIN:VEVENT
UID:5692
DTSTAMP:20260420T044343
DTSTART:20230812T100000
DTEND:20230812T140000
SUMMARY:3X3 de bàsquet-2023
LOCATION:C/ Josep Fornell, s/n 08231 Ullastrell
METHOD:PUBLISH
X-WR-CALNAME:ullastrell@ullastrell.cat
X-WR-TIMEZONE:Europe/Madrid
DESCRIPTION:Organitza — Serralavella Basquetbol

URI:https://www.ullastrell.cat/actualitat/agenda/3x3-de-basquet-2023.html
CLASS:PUBLIC
END:VEVENT
END:VCALENDAR
