BEGIN:VCALENDAR
VERSION:2.0
CALSCALE:GREGORIAN
PRODID:-//Diputació de Barcelona//DibaCMS//EN
BEGIN:VEVENT
UID:5694
DTSTAMP:20260420T151237
DTSTART:20230812T113000
DTEND:20230812T130000
SUMMARY:Campionat de Sudoku
LOCATION:C/ Serra 37 08231 Ullastrell
METHOD:PUBLISH
X-WR-CALNAME:ullastrell@ullastrell.cat
X-WR-TIMEZONE:Europe/Madrid
DESCRIPTION:Grans i/o xics, poseu-vos a prova!

URI:https://www.ullastrell.cat/actualitat/agenda/campionat-de-sudoku.html
CLASS:PUBLIC
END:VEVENT
END:VCALENDAR
