BEGIN:VCALENDAR
VERSION:2.0
CALSCALE:GREGORIAN
PRODID:-//Diputació de Barcelona//DibaCMS//EN
BEGIN:VEVENT
UID:5695
DTSTAMP:20260420T061548
DTSTART:20230812T120000
DTEND:20230812T140000
SUMMARY:Enfila't al Rocòdrom
LOCATION:
METHOD:PUBLISH
X-WR-CALNAME:ullastrell@ullastrell.cat
X-WR-TIMEZONE:Europe/Madrid
DESCRIPTION:Organitza — Grup de Muntanya

URI:https://www.ullastrell.cat/actualitat/agenda/enfilat-al-rocodrom.html
CLASS:PUBLIC
END:VEVENT
END:VCALENDAR
