BEGIN:VCALENDAR
VERSION:2.0
CALSCALE:GREGORIAN
PRODID:-//Diputació de Barcelona//DibaCMS//EN
BEGIN:VEVENT
UID:5696
DTSTAMP:20260420T045253
DTSTART:20230812T170000
DTEND:20230812T200000
SUMMARY:Torneig de futbol Ullas vs Trell.
LOCATION:
METHOD:PUBLISH
X-WR-CALNAME:ullastrell@ullastrell.cat
X-WR-TIMEZONE:Europe/Madrid
DESCRIPTION:Organitza — CF Ullastrell

URI:https://www.ullastrell.cat/actualitat/agenda/5696-torneig-de-futbol-ullas-vs-trell.html
CLASS:PUBLIC
END:VEVENT
END:VCALENDAR
