BEGIN:VCALENDAR
VERSION:2.0
CALSCALE:GREGORIAN
PRODID:-//Diputació de Barcelona//DibaCMS//EN
BEGIN:VEVENT
UID:5697
DTSTAMP:20260420T101712
DTSTART:20230812T170000
DTEND:20230812T193000
SUMMARY:Torneig Ràpides d'escacs.
LOCATION:C/ Josep Fornell, s/n 08231 Ullastrell
METHOD:PUBLISH
X-WR-CALNAME:ullastrell@ullastrell.cat
X-WR-TIMEZONE:Europe/Madrid
DESCRIPTION:Organitza — Club d’Escacs

URI:https://www.ullastrell.cat/actualitat/agenda/torneig-rapides-descacs.html
CLASS:PUBLIC
END:VEVENT
END:VCALENDAR
