BEGIN:VCALENDAR
VERSION:2.0
CALSCALE:GREGORIAN
PRODID:-//Diputació de Barcelona//DibaCMS//EN
BEGIN:VEVENT
UID:5698
DTSTAMP:20260420T115832
DTSTART:20230812T170000
DTEND:20230812T190000
SUMMARY:Cercavila de bicicletes guarnides
LOCATION:Davant de l'Ajuntament i pels carrers del poble. 
METHOD:PUBLISH
X-WR-CALNAME:ullastrell@ullastrell.cat
X-WR-TIMEZONE:Europe/Madrid
DESCRIPTION:Organitza — Grup de Muntanya d’Ullastrell

URI:https://www.ullastrell.cat/actualitat/agenda/5698-cercavila-de-bicicletes-guarnides.html
CLASS:PUBLIC
END:VEVENT
END:VCALENDAR
