BEGIN:VCALENDAR
VERSION:2.0
CALSCALE:GREGORIAN
PRODID:-//Diputació de Barcelona//DibaCMS//EN
BEGIN:VEVENT
UID:5699
DTSTAMP:20260420T055907
DTSTART:20230812T183000
DTEND:20230812T200000
SUMMARY:Pubilla de ferro
LOCATION:Pati de les Moreres 
METHOD:PUBLISH
X-WR-CALNAME:ullastrell@ullastrell.cat
X-WR-TIMEZONE:Europe/Madrid
DESCRIPTION:Organitza — Oju Malparlats

URI:https://www.ullastrell.cat/actualitat/agenda/pubilla-de-ferro.html
CLASS:PUBLIC
END:VEVENT
END:VCALENDAR
