BEGIN:VCALENDAR
VERSION:2.0
CALSCALE:GREGORIAN
PRODID:-//Diputació de Barcelona//DibaCMS//EN
BEGIN:VEVENT
UID:5700
DTSTAMP:20260420T044404
DTSTART:20230812T210000
DTEND:20230812T220000
SUMMARY:Pregó de Festa Major
LOCATION:
METHOD:PUBLISH
X-WR-CALNAME:ullastrell@ullastrell.cat
X-WR-TIMEZONE:Europe/Madrid
DESCRIPTION:Amb el tradicional repic de campanes.

URI:https://www.ullastrell.cat/actualitat/agenda/prego-de-festa-major.html
CLASS:PUBLIC
END:VEVENT
END:VCALENDAR
