BEGIN:VCALENDAR
VERSION:2.0
CALSCALE:GREGORIAN
PRODID:-//Diputació de Barcelona//DibaCMS//EN
BEGIN:VEVENT
UID:5701
DTSTAMP:20260420T044710
DTSTART:20230812T210000
DTEND:20230812T233000
SUMMARY:Ullas VS Trell - L'inici de la competició més picant.
LOCATION:C/ Serra, 17 08231 Ullastrell
METHOD:PUBLISH
X-WR-CALNAME:ullastrell@ullastrell.cat
X-WR-TIMEZONE:Europe/Madrid
DESCRIPTION:Iniciem la competició més picant de la Festa Major amb la tradicional esti - rada de corda, el Mega Basket i una nova prova sorpresa!!

URI:https://www.ullastrell.cat/actualitat/agenda/ullas-vs-trell-linici-de-la-competicio-mes-picant.html
CLASS:PUBLIC
END:VEVENT
END:VCALENDAR
