BEGIN:VCALENDAR
VERSION:2.0
CALSCALE:GREGORIAN
PRODID:-//Diputació de Barcelona//DibaCMS//EN
BEGIN:VEVENT
UID:5702
DTSTAMP:20260420T061910
DTSTART:20230812T220000
DTEND:20230813T000000
SUMMARY:Correfoc - Diables d'Ullastrell
LOCATION:
METHOD:PUBLISH
X-WR-CALNAME:ullastrell@ullastrell.cat
X-WR-TIMEZONE:Europe/Madrid
DESCRIPTION:Recorregut — c. Serra, av. Verge Montserrat, c. Nou, c. Bisbe Irurita, c. Serra, pl. Joan Montmany.

URI:https://www.ullastrell.cat/actualitat/agenda/correfoc-diables-dullastrell.html
CLASS:PUBLIC
END:VEVENT
END:VCALENDAR
