BEGIN:VCALENDAR
VERSION:2.0
CALSCALE:GREGORIAN
PRODID:-//Diputació de Barcelona//DibaCMS//EN
BEGIN:VEVENT
UID:5703
DTSTAMP:20260420T071045
DTSTART:20230812T233000
DTEND:20230813T013000
SUMMARY:Concert - The Sants  +  Dj Tony C
LOCATION:Davant de l'Ajuntament. 
METHOD:PUBLISH
X-WR-CALNAME:ullastrell@ullastrell.cat
X-WR-TIMEZONE:Europe/Madrid
DESCRIPTION:De Peret a Metallica passant per Dua Lipa, Bonnie M, Sau, Marc Anthony i més!

URI:https://www.ullastrell.cat/actualitat/agenda/concert-the-sants--dj-tony-c.html
CLASS:PUBLIC
END:VEVENT
END:VCALENDAR
