BEGIN:VCALENDAR
VERSION:2.0
CALSCALE:GREGORIAN
PRODID:-//Diputació de Barcelona//DibaCMS//EN
BEGIN:VEVENT
UID:5706
DTSTAMP:20260420T045116
DTSTART:20230813T003000
DTEND:20230813T050000
SUMMARY:Concert Nit Jove - Les Testarudes+ DJ Brechas, P de Paku DJ i Jan Aymerich
LOCATION:Pati de les Moreres 
METHOD:PUBLISH
X-WR-CALNAME:ullastrell@ullastrell.cat
X-WR-TIMEZONE:Europe/Madrid
DESCRIPTION:Organitza — Oju Malparlats

URI:https://www.ullastrell.cat/actualitat/agenda/concert-nit-jove-les-testarudes-dj-brechas-p-de-paku-dj-i-jan-aymerich.html
CLASS:PUBLIC
END:VEVENT
END:VCALENDAR
