BEGIN:VCALENDAR
VERSION:2.0
CALSCALE:GREGORIAN
PRODID:-//Diputació de Barcelona//DibaCMS//EN
BEGIN:VEVENT
UID:5707
DTSTAMP:20260420T045003
DTSTART:20230813T110000
DTEND:20230813T130000
SUMMARY:En busca de l'excursionista perdut! Gimcana + esmorzar popular
LOCATION:Punt de trobada: Pista Poliesportiva 
METHOD:PUBLISH
X-WR-CALNAME:ullastrell@ullastrell.cat
X-WR-TIMEZONE:Europe/Madrid
DESCRIPTION:Organitza — Ajuntament d’Ullastrell i Els Festucs

URI:https://www.ullastrell.cat/actualitat/agenda/en-busca-de-lexcursionista-perdut-gimcana--esmorzar-popular.html
CLASS:PUBLIC
END:VEVENT
END:VCALENDAR
