BEGIN:VCALENDAR
VERSION:2.0
CALSCALE:GREGORIAN
PRODID:-//Diputació de Barcelona//DibaCMS//EN
BEGIN:VEVENT
UID:5708
DTSTAMP:20260420T045310
DTSTART:20230813T130000
DTEND:20230813T150000
SUMMARY:XXVIè Tastavins
LOCATION:Sala de les Orenetes del Progrés 
METHOD:PUBLISH
X-WR-CALNAME:ullastrell@ullastrell.cat
X-WR-TIMEZONE:Europe/Madrid
DESCRIPTION:Organitza — Celler de Can Morral del Molí

URI:https://www.ullastrell.cat/actualitat/agenda/xxvie-tastavins.html
CLASS:PUBLIC
END:VEVENT
END:VCALENDAR
