BEGIN:VCALENDAR
VERSION:2.0
CALSCALE:GREGORIAN
PRODID:-//Diputació de Barcelona//DibaCMS//EN
BEGIN:VEVENT
UID:5709
DTSTAMP:20260420T045432
DTSTART:20230813T170000
DTEND:20230813T190000
SUMMARY:Campionat de petanca - Memorial Maties Amat i Eusebi Simó
LOCATION:Parc de La Bassa 
METHOD:PUBLISH
X-WR-CALNAME:ullastrell@ullastrell.cat
X-WR-TIMEZONE:Europe/Madrid
DESCRIPTION:Inscripcions — whatsapp 674782969, fins l’11/08

URI:https://www.ullastrell.cat/actualitat/agenda/5709-campionat-de-petanca-memorial-maties-amat-i-eusebi-simo.html
CLASS:PUBLIC
END:VEVENT
END:VCALENDAR
