BEGIN:VCALENDAR
VERSION:2.0
CALSCALE:GREGORIAN
PRODID:-//Diputació de Barcelona//DibaCMS//EN
BEGIN:VEVENT
UID:5710
DTSTAMP:20260420T044834
DTSTART:20230813T190000
DTEND:20230813T200000
SUMMARY:Concert en família - Dàmaris Gelabert
LOCATION:C/ Serra, 17 08231 Ullastrell
METHOD:PUBLISH
X-WR-CALNAME:ullastrell@ullastrell.cat
X-WR-TIMEZONE:Europe/Madrid
DESCRIPTION:La família de la Dàmaris és una família de músics convençuda que la música ens acompanya sempre i ens ajuda a créixer.

URI:https://www.ullastrell.cat/actualitat/agenda/concert-en-familia-damaris-gelabert.html
CLASS:PUBLIC
END:VEVENT
END:VCALENDAR
