BEGIN:VCALENDAR
VERSION:2.0
CALSCALE:GREGORIAN
PRODID:-//Diputació de Barcelona//DibaCMS//EN
BEGIN:VEVENT
UID:5711
DTSTAMP:20260420T044520
DTSTART:20230813T203000
DTEND:20230813T220000
SUMMARY:Petabarres
LOCATION:La Mola 
METHOD:PUBLISH
X-WR-CALNAME:ullastrell@ullastrell.cat
X-WR-TIMEZONE:Europe/Madrid
DESCRIPTION:Organitza — Oju Malparlats i Ajunta - ment d’Ullastrell

URI:https://www.ullastrell.cat/actualitat/agenda/5711-petabarres.html
CLASS:PUBLIC
END:VEVENT
END:VCALENDAR
