BEGIN:VCALENDAR
VERSION:2.0
CALSCALE:GREGORIAN
PRODID:-//Diputació de Barcelona//DibaCMS//EN
BEGIN:VEVENT
UID:5712
DTSTAMP:20260420T045029
DTSTART:20230813T233000
DTEND:20230814T030000
SUMMARY:Concert - Wedanceband + DJ Piti Vaccari
LOCATION:C/ Serra, 17 08231 Ullastrell
METHOD:PUBLISH
X-WR-CALNAME:ullastrell@ullastrell.cat
X-WR-TIMEZONE:Europe/Madrid
DESCRIPTION:Gaudirem del grup de versions que sua la samarreta per fer ba - llar tothom: un show elèctric i vibrant que repassa hits del millor pop, R&B actual, funk, disco...

URI:https://www.ullastrell.cat/actualitat/agenda/concert-wedanceband--dj-piti-vaccari.html
CLASS:PUBLIC
END:VEVENT
END:VCALENDAR
