BEGIN:VCALENDAR
VERSION:2.0
CALSCALE:GREGORIAN
PRODID:-//Diputació de Barcelona//DibaCMS//EN
BEGIN:VEVENT
UID:5713
DTSTAMP:20260420T060813
DTSTART:20230814T000000
DTEND:20230814T020000
SUMMARY:Bany nocturn
LOCATION:C/ Josep Fornell, s/n 08231 Ullastrell
METHOD:PUBLISH
X-WR-CALNAME:ullastrell@ullastrell.cat
X-WR-TIMEZONE:Europe/Madrid
DESCRIPTION:Arribada la mitjanit, refresca’t per fer passar la calor d’agost!

URI:https://www.ullastrell.cat/actualitat/agenda/5713-bany-nocturn.html
CLASS:PUBLIC
END:VEVENT
END:VCALENDAR
