BEGIN:VCALENDAR
VERSION:2.0
CALSCALE:GREGORIAN
PRODID:-//Diputació de Barcelona//DibaCMS//EN
BEGIN:VEVENT
UID:5714
DTSTAMP:20260420T041301
DTSTART:20230814T110000
DTEND:20230814T140000
SUMMARY:Inflables a la piscina
LOCATION:C/ Josep Fornell, s/n 08231 Ullastrell
METHOD:PUBLISH
X-WR-CALNAME:ullastrell@ullastrell.cat
X-WR-TIMEZONE:Europe/Madrid
DESCRIPTION:Remulla’t i salta com mai!

URI:https://www.ullastrell.cat/actualitat/agenda/5714-inflables-a-la-piscina.html
CLASS:PUBLIC
END:VEVENT
END:VCALENDAR
