BEGIN:VCALENDAR
VERSION:2.0
CALSCALE:GREGORIAN
PRODID:-//Diputació de Barcelona//DibaCMS//EN
BEGIN:VEVENT
UID:5715
DTSTAMP:20260420T041442
DTSTART:20230814T120000
DTEND:20230814T140000
SUMMARY:Descobreix el Rocòdrom
LOCATION:
METHOD:PUBLISH
X-WR-CALNAME:ullastrell@ullastrell.cat
X-WR-TIMEZONE:Europe/Madrid
DESCRIPTION:Organitza — Grup de Muntanya

URI:https://www.ullastrell.cat/actualitat/agenda/descobreix-el-rocodrom.html
CLASS:PUBLIC
END:VEVENT
END:VCALENDAR
