BEGIN:VCALENDAR
VERSION:2.0
CALSCALE:GREGORIAN
PRODID:-//Diputació de Barcelona//DibaCMS//EN
BEGIN:VEVENT
UID:5716
DTSTAMP:20260420T053829
DTSTART:20230814T123000
DTEND:20230814T133000
SUMMARY:Missa gent gran
LOCATION:Plaça de l'església, 2 08231 Ullastrell
METHOD:PUBLISH
X-WR-CALNAME:ullastrell@ullastrell.cat
X-WR-TIMEZONE:Europe/Madrid
DESCRIPTION:Organitza — Parròquia de Santa Maria d’Ullastrell

URI:https://www.ullastrell.cat/actualitat/agenda/missa-gent-gran.html
CLASS:PUBLIC
END:VEVENT
END:VCALENDAR
