BEGIN:VCALENDAR
VERSION:2.0
CALSCALE:GREGORIAN
PRODID:-//Diputació de Barcelona//DibaCMS//EN
BEGIN:VEVENT
UID:5717
DTSTAMP:20260420T054136
DTSTART:20230814T140000
DTEND:20230814T143000
SUMMARY:Vermut de la gent gran
LOCATION:C/ Josep Fornell, s/n 08231 Ullastrell
METHOD:PUBLISH
X-WR-CALNAME:ullastrell@ullastrell.cat
X-WR-TIMEZONE:Europe/Madrid
DESCRIPTION:Organitza — La Colla de la Gent Gran

URI:https://www.ullastrell.cat/actualitat/agenda/5717-vermut-de-la-gent-gran.html
CLASS:PUBLIC
END:VEVENT
END:VCALENDAR
