BEGIN:VCALENDAR
VERSION:2.0
CALSCALE:GREGORIAN
PRODID:-//Diputació de Barcelona//DibaCMS//EN
BEGIN:VEVENT
UID:5718
DTSTAMP:20260420T101652
DTSTART:20230814T143000
DTEND:20230814T160000
SUMMARY:Dinar de la gent gran
LOCATION:C/ Josep Fornell, s/n 08231 Ullastrell
METHOD:PUBLISH
X-WR-CALNAME:ullastrell@ullastrell.cat
X-WR-TIMEZONE:Europe/Madrid
DESCRIPTION:La Gent Gran d’Ullastrell celebra el seu dia amb un dinar de germanor.

URI:https://www.ullastrell.cat/actualitat/agenda/5718-dinar-de-la-gent-gran.html
CLASS:PUBLIC
END:VEVENT
END:VCALENDAR
