BEGIN:VCALENDAR
VERSION:2.0
CALSCALE:GREGORIAN
PRODID:-//Diputació de Barcelona//DibaCMS//EN
BEGIN:VEVENT
UID:5719
DTSTAMP:20260420T102418
DTSTART:20230814T163000
DTEND:20230814T173000
SUMMARY:Actuació musical - Cobla La Bisbal Jove
LOCATION:
METHOD:PUBLISH
X-WR-CALNAME:ullastrell@ullastrell.cat
X-WR-TIMEZONE:Europe/Madrid
DESCRIPTION:
URI:https://www.ullastrell.cat/actualitat/agenda/actuacio-musical-cobla-la-bisbal-jove.html
CLASS:PUBLIC
END:VEVENT
END:VCALENDAR
