BEGIN:VCALENDAR
VERSION:2.0
CALSCALE:GREGORIAN
PRODID:-//Diputació de Barcelona//DibaCMS//EN
BEGIN:VEVENT
UID:5720
DTSTAMP:20260420T054208
DTSTART:20230814T180000
DTEND:20230814T210000
SUMMARY:Paraulògic
LOCATION:
METHOD:PUBLISH
X-WR-CALNAME:ullastrell@ullastrell.cat
X-WR-TIMEZONE:Europe/Madrid
DESCRIPTION:Organitza — Ullastrell per la Independència ANC

URI:https://www.ullastrell.cat/actualitat/agenda/paraulogic.html
CLASS:PUBLIC
END:VEVENT
END:VCALENDAR
