BEGIN:VCALENDAR
VERSION:2.0
CALSCALE:GREGORIAN
PRODID:-//Diputació de Barcelona//DibaCMS//EN
BEGIN:VEVENT
UID:5721
DTSTAMP:20260420T071324
DTSTART:20230814T190000
DTEND:20230814T203000
SUMMARY:Màgia - Pau Segalès, Obre els ulls.
LOCATION:C/ Josep Fornell, s/n 08231 Ullastrell
METHOD:PUBLISH
X-WR-CALNAME:ullastrell@ullastrell.cat
X-WR-TIMEZONE:Europe/Madrid
DESCRIPTION:Màgia, humor, misteri i il·lusions amb objectes quotidians ens faran volar la imaginació!

URI:https://www.ullastrell.cat/actualitat/agenda/magia-pau-segales-obre-els-ulls.html
CLASS:PUBLIC
END:VEVENT
END:VCALENDAR
