BEGIN:VCALENDAR
VERSION:2.0
CALSCALE:GREGORIAN
PRODID:-//Diputació de Barcelona//DibaCMS//EN
BEGIN:VEVENT
UID:5722
DTSTAMP:20260420T102337
DTSTART:20230814T193000
DTEND:20230814T203000
SUMMARY:Havaneres - Les Anxovetes
LOCATION:C/ Serra, 17 08231 Ullastrell
METHOD:PUBLISH
X-WR-CALNAME:ullastrell@ullastrell.cat
X-WR-TIMEZONE:Europe/Madrid
DESCRIPTION:Havaneres en femení, amb repertori clàssic i tradicional i la millor companyia. Amb rom cremat.

URI:https://www.ullastrell.cat/actualitat/agenda/havaneres-les-anxovetes.html
CLASS:PUBLIC
END:VEVENT
END:VCALENDAR
