BEGIN:VCALENDAR
VERSION:2.0
CALSCALE:GREGORIAN
PRODID:-//Diputació de Barcelona//DibaCMS//EN
BEGIN:VEVENT
UID:5723
DTSTAMP:20260420T083733
DTSTART:20230814T213000
DTEND:20230814T220000
SUMMARY:Karla's Show de Manresa
LOCATION:C/Josep Fornell s/n  08231 Ullastrell
METHOD:PUBLISH
X-WR-CALNAME:ullastrell@ullastrell.cat
X-WR-TIMEZONE:Europe/Madrid
DESCRIPTION:Juan Carlos Vázquez és un manresà atípic.

 

URI:https://www.ullastrell.cat/actualitat/agenda/karlas-show-de-manresa.html
CLASS:PUBLIC
END:VEVENT
END:VCALENDAR
