BEGIN:VCALENDAR
VERSION:2.0
CALSCALE:GREGORIAN
PRODID:-//Diputació de Barcelona//DibaCMS//EN
BEGIN:VEVENT
UID:5724
DTSTAMP:20260420T083828
DTSTART:20230814T233000
DTEND:20230815T040000
SUMMARY:Concert - Tropical Galaxia +  Pirat's Sound System  + DJ Stroika
LOCATION:C/ Serra, 17 08231 Ullastrell
METHOD:PUBLISH
X-WR-CALNAME:ullastrell@ullastrell.cat
X-WR-TIMEZONE:Europe/Madrid
DESCRIPTION:CONCERT — TROPICAL GALAXIA

Del trap al dancehall passant pel breabeat, l’afrotrap o el ball funk per fer ballar el personal i aportar un contrapunt a la superficialitat dels con - tinguts i l’imaginari imperants a la música actual de la joventut

 

Tot seguit, esta i compromís amb l’incansable i excèntric grup de sound system de reggae, ragga i dancehall per antono - màsia a Catalunya. I acabarem amb DJ Stroika

URI:https://www.ullastrell.cat/actualitat/agenda/concert-tropical-galaxia--pirats-sound-system--dj-stroika.html
CLASS:PUBLIC
END:VEVENT
END:VCALENDAR
