BEGIN:VCALENDAR
VERSION:2.0
CALSCALE:GREGORIAN
PRODID:-//Diputació de Barcelona//DibaCMS//EN
BEGIN:VEVENT
UID:5726
DTSTAMP:20260420T113536
DTSTART:20230815T113000
DTEND:20230815T130000
SUMMARY:Festa Gegantera i esmorzar popular.
LOCATION:C/ Serra, 17 08231 Ullastrell
METHOD:PUBLISH
X-WR-CALNAME:ullastrell@ullastrell.cat
X-WR-TIMEZONE:Europe/Madrid
DESCRIPTION:Organitza - Geganters d’Ullastrell

URI:https://www.ullastrell.cat/actualitat/agenda/festa-gegantera-i-esmorzar-popular.html
CLASS:PUBLIC
END:VEVENT
END:VCALENDAR
