BEGIN:VCALENDAR
VERSION:2.0
CALSCALE:GREGORIAN
PRODID:-//Diputació de Barcelona//DibaCMS//EN
BEGIN:VEVENT
UID:5727
DTSTAMP:20260420T084212
DTSTART:20230815T123000
DTEND:20230815T133000
SUMMARY:Ofrena floral Verge Assumpta i Missa Solemne
LOCATION:Plaça de l'església, 2 08231 Ullastrell
METHOD:PUBLISH
X-WR-CALNAME:ullastrell@ullastrell.cat
X-WR-TIMEZONE:Europe/Madrid
DESCRIPTION:Organitza — Junta Parroquial

URI:https://www.ullastrell.cat/actualitat/agenda/ofrena-floral-verge-assumpta-i-missa-solemne.html
CLASS:PUBLIC
END:VEVENT
END:VCALENDAR
