BEGIN:VCALENDAR
VERSION:2.0
CALSCALE:GREGORIAN
PRODID:-//Diputació de Barcelona//DibaCMS//EN
BEGIN:VEVENT
UID:5729
DTSTAMP:20260420T044420
DTSTART:20230815T200000
DTEND:20230815T213000
SUMMARY:Gala d'entrega de premis i cloenda de Festa Major
LOCATION:C/ Serra, 17 08231 Ullastrell
METHOD:PUBLISH
X-WR-CALNAME:ullastrell@ullastrell.cat
X-WR-TIMEZONE:Europe/Madrid
DESCRIPTION:Amb l’acompanyament especial de Improakatomba per amenitzar la cloenda.

URI:https://www.ullastrell.cat/actualitat/agenda/gala-dentrega-de-premis-i-cloenda-de-festa-major.html
CLASS:PUBLIC
END:VEVENT
END:VCALENDAR
