BEGIN:VCALENDAR
VERSION:2.0
CALSCALE:GREGORIAN
PRODID:-//Diputació de Barcelona//DibaCMS//EN
BEGIN:VEVENT
UID:5737
DTSTAMP:20260420T083554
DTSTART:20230910T203000
DTEND:20230910T235900
SUMMARY:Actes Diada Nacional de Catalunya 2023
LOCATION:Aparcament de la Carretera d'Olesa 
METHOD:PUBLISH
X-WR-CALNAME:ullastrell@ullastrell.cat
X-WR-TIMEZONE:Europe/Madrid
DESCRIPTION:
URI:https://www.ullastrell.cat/actualitat/agenda/actes-diada-nacional-de-catalunya-2023.html
CLASS:PUBLIC
END:VEVENT
END:VCALENDAR
