BEGIN:VCALENDAR
VERSION:2.0
CALSCALE:GREGORIAN
PRODID:-//Diputació de Barcelona//DibaCMS//EN
BEGIN:VEVENT
UID:5739
DTSTAMP:20260420T100831
DTSTART:20230920T200000
DTEND:20230920T235900
SUMMARY:Acte Públic del Govern Local 
LOCATION:C/ Josep Fornell, s/n 08231 Ullastrell
METHOD:PUBLISH
X-WR-CALNAME:ullastrell@ullastrell.cat
X-WR-TIMEZONE:Europe/Madrid
DESCRIPTION: 

Ordre del dia:

-Organització municipal

-Estacions depuradores

-Pressupostos i ordenances

-Pla d'ordenació urbanística municipal

-Precs i preguntes

 

URI:https://www.ullastrell.cat/actualitat/agenda/acte-public-del-govern-local-.html
CLASS:PUBLIC
END:VEVENT
END:VCALENDAR
