BEGIN:VCALENDAR
VERSION:2.0
CALSCALE:GREGORIAN
PRODID:-//Diputació de Barcelona//DibaCMS//EN
BEGIN:VEVENT
UID:5740
DTSTAMP:20260420T053621
DTSTART:20230921T183000
DTEND:20230921T235900
SUMMARY:Jornada informativa - Ajuts Next Generation 
LOCATION:C/ Josep Fornell, s/n 08231 Ullastrell
METHOD:PUBLISH
X-WR-CALNAME:ullastrell@ullastrell.cat
X-WR-TIMEZONE:Europe/Madrid
DESCRIPTION:Jornada sobre els ajuts Next Generation per la rehabilitació energètica dels habitatges unifamiliars

 

 

URI:https://www.ullastrell.cat/actualitat/agenda/jornada-informativa-ajuts-next-generation-.html
CLASS:PUBLIC
END:VEVENT
END:VCALENDAR
