BEGIN:VCALENDAR
VERSION:2.0
CALSCALE:GREGORIAN
PRODID:-//Diputació de Barcelona//DibaCMS//EN
BEGIN:VEVENT
UID:5742
DTSTAMP:20260420T084524
DTSTART:20231010T103000
DTEND:20231010T113000
SUMMARY:OFICINA MÒBIL D'INFORMACIÓ AL CONSUMIDOR 
LOCATION:Davant de l'Ajuntament 
METHOD:PUBLISH
X-WR-CALNAME:ullastrell@ullastrell.cat
X-WR-TIMEZONE:Europe/Madrid
DESCRIPTION:Diputació de Barcelona - Ajuntament d'Ullastrell.

URI:https://www.ullastrell.cat/actualitat/agenda/oficina-mobil-dinformacio-al-consumidor-.html
CLASS:PUBLIC
END:VEVENT
END:VCALENDAR
