BEGIN:VCALENDAR
VERSION:2.0
CALSCALE:GREGORIAN
PRODID:-//Diputació de Barcelona//DibaCMS//EN
BEGIN:VEVENT
UID:5765
DTSTAMP:20260420T100918
DTSTART:20231001T080000
DTEND:20231001T230000
SUMMARY:1-Oct, Ballada de sardanes enllaunades (Diumenge 1 d'octubre)
LOCATION:C/ Serra, 17 08231 Ullastrell
METHOD:PUBLISH
X-WR-CALNAME:ullastrell@ullastrell.cat
X-WR-TIMEZONE:Europe/Madrid
DESCRIPTION:13H BALLADA DE SARDANES ENLLAUNADES, davant de l'Ajuntament

Amb Parlaments i petit refrigeri

URI:https://www.ullastrell.cat/actualitat/agenda/1-oct-ballada-de-sardanes-enllaunades-diumenge-1-doctubre.html
CLASS:PUBLIC
END:VEVENT
END:VCALENDAR
