BEGIN:VCALENDAR
VERSION:2.0
CALSCALE:GREGORIAN
PRODID:-//Diputació de Barcelona//DibaCMS//EN
BEGIN:VEVENT
UID:5769
DTSTAMP:20260420T054909
DTSTART:20231004T170000
DTEND:20231004T180000
SUMMARY:"Sóc així!", un conte coeducatiu amb Laura Asensio (Dimecres 4 d'octubre)
LOCATION:C/ Josep Fornell, s/n 08231 Ullastrell
METHOD:PUBLISH
X-WR-CALNAME:ullastrell@ullastrell.cat
X-WR-TIMEZONE:Europe/Madrid
DESCRIPTION:"Sóc així!", un conte coeducatiu amb Laura Asensio

 

I tu, com ets? En aquest conte, dos personatges molt diferents comparteixen allò que els fa alhora molt semblants: la llibertat de ser ells mateixos. Per sobre de les crítiques i opinions dels altres... ells són així!!

 

LLoc: Biblioteca Josep Massagué

Hora: 17:00

 

URI:https://www.ullastrell.cat/actualitat/agenda/soc-aixi-un-conte-coeducatiu-amb-laura-asensio-dimecres-4-doctubre.html
CLASS:PUBLIC
END:VEVENT
END:VCALENDAR
