BEGIN:VCALENDAR
VERSION:2.0
CALSCALE:GREGORIAN
PRODID:-//Diputació de Barcelona//DibaCMS//EN
BEGIN:VEVENT
UID:5776
DTSTAMP:20260420T054746
DTSTART:20231004T180000
DTEND:20231004T200000
SUMMARY:Ple extraordinari Urgent 4 d'octubre de 2023 
LOCATION:
METHOD:PUBLISH
X-WR-CALNAME:ullastrell@ullastrell.cat
X-WR-TIMEZONE:Europe/Madrid
DESCRIPTION:Tipus de convocatòria: Extraordinària Urgent

Motiu: «S'incloen expedients a l'ordre del dia que no poden esperar per la seva aprovació en el ple ordinari previst pel proper dia 18.10.2023»

URI:https://www.ullastrell.cat/actualitat/agenda/ple-extraordinari-urgent-4-doctubre-de-2023-.html
CLASS:PUBLIC
END:VEVENT
END:VCALENDAR
