BEGIN:VCALENDAR
VERSION:2.0
CALSCALE:GREGORIAN
PRODID:-//Diputació de Barcelona//DibaCMS//EN
BEGIN:VEVENT
UID:5779
DTSTAMP:20260420T043754
DTSTART:20231019T170000
DTEND:20231019T180000
SUMMARY:CONTE VA CONTE VE: PETONS I MOIXAINES
LOCATION:C/ Josep Fornell, s/n 08231 Ullastrell
METHOD:PUBLISH
X-WR-CALNAME:ullastrell@ullastrell.cat
X-WR-TIMEZONE:Europe/Madrid
DESCRIPTION:Setena setmana de la lactància

Tres contes plens de tendresa per als més petits (1-4 anys). Compartirem contes plens de tendresa, viurem aventures amb la nena que busca la reina dels petons i coneixerem un ós que fa abraçades. I és que no hi ha res com una bona abraçada plena de petons.

URI:https://www.ullastrell.cat/actualitat/agenda/conte-va-conte-ve-petons-i-moixaines.html
CLASS:PUBLIC
END:VEVENT
END:VCALENDAR
