BEGIN:VCALENDAR
VERSION:2.0
CALSCALE:GREGORIAN
PRODID:-//Diputació de Barcelona//DibaCMS//EN
BEGIN:VEVENT
UID:5780
DTSTAMP:20260420T083757
DTSTART:20231012T180000
DTEND:20231012T200000
SUMMARY:Arrenquem! - Espai de la Gent Gran
LOCATION:C/ Josep Fornell, s/n 08231 Ullastrell
METHOD:PUBLISH
X-WR-CALNAME:ullastrell@ullastrell.cat
X-WR-TIMEZONE:Europe/Madrid
DESCRIPTION:L’Espai de la Gent Gran enceta curs: activitat i berenar per explicar les novetats d’aquesta temporada.

URI:https://www.ullastrell.cat/actualitat/agenda/arrenquem-espai-de-la-gent-gran.html
CLASS:PUBLIC
END:VEVENT
END:VCALENDAR
