BEGIN:VCALENDAR
VERSION:2.0
CALSCALE:GREGORIAN
PRODID:-//Diputació de Barcelona//DibaCMS//EN
BEGIN:VEVENT
UID:5781
DTSTAMP:20260420T031615
DTSTART:20231016T180000
DTEND:20231016T200000
SUMMARY:Xerrada: Sexualitat, parella i postpart
LOCATION:C/ Josep Fornell, s/n 08231 Ullastrell
METHOD:PUBLISH
X-WR-CALNAME:ullastrell@ullastrell.cat
X-WR-TIMEZONE:Europe/Madrid
DESCRIPTION:Setena setmana de la lactància

El postpart és un període clau a cuidar en la vida d’una dona. En aquesta xerrada entendrem el sentit d’aquesta etapa vital femenina i farem una mirada a com és la sexualitat per sentir plenitud en aquest trànsit vital. També veurem com potenciar el benestar i el gaudi en parella.

URI:https://www.ullastrell.cat/actualitat/agenda/xerrada-sexualitat-parella-i-postpart.html
CLASS:PUBLIC
END:VEVENT
END:VCALENDAR
