BEGIN:VCALENDAR
VERSION:2.0
CALSCALE:GREGORIAN
PRODID:-//Diputació de Barcelona//DibaCMS//EN
BEGIN:VEVENT
UID:5782
DTSTAMP:20260420T061924
DTSTART:20231020T173000
DTEND:20231020T193000
SUMMARY:Berenar amb Doules
LOCATION:C/ Serra 37 08231 Ullastrell
METHOD:PUBLISH
X-WR-CALNAME:ullastrell@ullastrell.cat
X-WR-TIMEZONE:Europe/Madrid
DESCRIPTION:Setena setmana de la lactància 




Amb Bianca Narella Duran Da Souza i Gemma Herrera Subias




 




Espai on us convidem a compartir una estona i parlar de diferents aspectes que sorgeixen a les "mapaternitats" i la criança.




 

URI:https://www.ullastrell.cat/actualitat/agenda/berenar-amb-doules.html
CLASS:PUBLIC
END:VEVENT
END:VCALENDAR
