BEGIN:VCALENDAR
VERSION:2.0
CALSCALE:GREGORIAN
PRODID:-//Diputació de Barcelona//DibaCMS//EN
BEGIN:VEVENT
UID:5783
DTSTAMP:20260420T031307
DTSTART:20231021T110000
DTEND:20231021T130000
SUMMARY:Espai de Joc 0-3 anys
LOCATION:Davant l'Ajuntament
C/ Serra 17
Ullastrell 
METHOD:PUBLISH
X-WR-CALNAME:ullastrell@ullastrell.cat
X-WR-TIMEZONE:Europe/Madrid
DESCRIPTION:Setena setmana de la lactància

Vine a jugar i experimentar amb diversitat de jocs pels més menuts de la casa.

URI:https://www.ullastrell.cat/actualitat/agenda/5783-espai-de-joc-0-3-anys.html
CLASS:PUBLIC
END:VEVENT
END:VCALENDAR
