BEGIN:VCALENDAR
VERSION:2.0
CALSCALE:GREGORIAN
PRODID:-//Diputació de Barcelona//DibaCMS//EN
BEGIN:VEVENT
UID:5784
DTSTAMP:20260420T043526
DTSTART:20231017T173000
DTEND:20231017T183000
SUMMARY:IOGA EN FAMÍLIA 
LOCATION:C/ Josep Fornell, s/n 08231 Ullastrell
METHOD:PUBLISH
X-WR-CALNAME:ullastrell@ullastrell.cat
X-WR-TIMEZONE:Europe/Madrid
DESCRIPTION:A càrrec d’Audrey Suárez

URI:https://www.ullastrell.cat/actualitat/agenda/ioga-en-familia-.html
CLASS:PUBLIC
END:VEVENT
END:VCALENDAR
