BEGIN:VCALENDAR
VERSION:2.0
CALSCALE:GREGORIAN
PRODID:-//Diputació de Barcelona//DibaCMS//EN
BEGIN:VEVENT
UID:5785
DTSTAMP:20260420T083957
DTSTART:20231021T180000
DTEND:20231022T130000
SUMMARY:Inauguració Exposició: La Naturalesa del Píxel
LOCATION:C/ Serra 37 08231 Ullastrell
METHOD:PUBLISH
X-WR-CALNAME:ullastrell@ullastrell.cat
X-WR-TIMEZONE:Europe/Madrid
DESCRIPTION:A càrrec de De Lluc Rodríguez

La Naturalesa del Píxel, projecte nascut a Ullastrell, es converteix en un testimoni artístic que teixeix un pont entre allò digital i allò natural i ens convida a reflexionar sobre la nostra relació amb la natura.

 

URI:https://www.ullastrell.cat/actualitat/agenda/inauguracio-exposicio-la-naturalesa-del-pixel.html
CLASS:PUBLIC
END:VEVENT
END:VCALENDAR
