BEGIN:VCALENDAR
VERSION:2.0
CALSCALE:GREGORIAN
PRODID:-//Diputació de Barcelona//DibaCMS//EN
BEGIN:VEVENT
UID:5786
DTSTAMP:20260420T031344
DTSTART:20231026T183000
DTEND:20231026T200000
SUMMARY:PARLEM DE LLIBRES - EL PREU DE LA LEGALITAT
LOCATION:C/ Josep Fornell, s/n 08231 Ullastrell
METHOD:PUBLISH
X-WR-CALNAME:ullastrell@ullastrell.cat
X-WR-TIMEZONE:Europe/Madrid
DESCRIPTION:A càrrec de Joan Martínez

Joan Rodríguez Martínez va néixer a Almeria i amb 15 anys, com tants d'altres, va migrar a Catalunya. A la seva joventut va estar vinculat al poble d’Ullastrell treballant a una de les granges de l'època i residint a la mateixa. Militant del PSUC de Terrassa i conegut com "El Cosaco", va patir la repressió de la dictadura i va estar detingut en diverses ocasions.

URI:https://www.ullastrell.cat/actualitat/agenda/parlem-de-llibres-el-preu-de-la-legalitat.html
CLASS:PUBLIC
END:VEVENT
END:VCALENDAR
