BEGIN:VCALENDAR
VERSION:2.0
CALSCALE:GREGORIAN
PRODID:-//Diputació de Barcelona//DibaCMS//EN
BEGIN:VEVENT
UID:5787
DTSTAMP:20260420T043509
DTSTART:20231031T200000
DTEND:20231031T230000
SUMMARY:NIT DE TERROR
LOCATION:Zona poliesportiva 
Urbanització Ca n'Amat
La Vall d'Ullastrell 
METHOD:PUBLISH
X-WR-CALNAME:ullastrell@ullastrell.cat
X-WR-TIMEZONE:Europe/Madrid
DESCRIPTION:Un munt d’activitats a punt per fer passar por en la nit més terrorífica!

Passatge del terror, escape room i maquillatge de terror, música, bar i molt més! 

URI:https://www.ullastrell.cat/actualitat/agenda/5787-nit-de-terror.html
CLASS:PUBLIC
END:VEVENT
END:VCALENDAR
